Workbook
Name Area_of_Concern___Patient_Rights: '[1]Summary and Table of Content'!$C$5

Sheet Score Card
B1: Hospital Score Card | E1: Version- 03/DWH/UP/19
B2: District Women Hospital ----------------------------------------------------------
B4: Departmental Scores
B5: Emergency | C5: OPD | D5: LABOUR ROOM (LaQshya) | E5: Maternity Ward
B6: =Emergency!C658 -> 0 | C6: =OPD!C681 -> 0 | D6: =' LR (LaQshya)'!D427 -> 0 | E6: ='Maternity Ward'!C647 -> 0
B7: SNCU | C7: THE QUALITY SCORE | E7: Post Partum Unit
B8: ='SNCU '!C697 -> 0 | C8: =(Emergency!B679+OPD!B702+' LR (LaQshya)'!B427+'Maternity Ward'!B667+'SNCU '!B718+'M-OT (LaQshya)'!B642+'PP Unit'!B710+Lab!B631+'Radiology '!B542+Pharmacy!B578+'Auxillary '!B608+General!B830)*100/(Emergency!C679+OPD!C702+' LR (LaQshya)'!C427+'Maternity Ward'!C667+'SNCU '!C718+'M-OT (LaQshya)'!C642+'PP Unit'!C710+Lab!C631+'Radiology '!C542+Pharmacy!C578+'Auxillary '!C608+General!C830) -> 0 | E8: ='PP Unit'!C690 -> 0
B9: M-OT (LaQshya) | E9: Laboratory
B10: ='M-OT (LaQshya)'!D642 -> 0 | E10: =Lab!C611 -> 0
B11: Radiology | C11: Pharmacy | D11: Auxillary | E11: General / Admin.
B12: ='Radiology '!C522 -> 0 | C12: =Pharmacy!C557 -> 0 | D12: ='Auxillary '!C588 -> 0 | E12: =General!C809 -> 0
B14: Thematic Scores
B15: Sevice Provision | C15: Patient Rights | D15: Inputs | E15: Support Services
B16: =(Emergency!B671+OPD!B694+' LR (LaQshya)'!B419+'Maternity Ward'!B659+'SNCU '!B710+'M-OT (LaQshya)'!B634+'PP Unit'!B702+Lab!B623+'Radiology '!B534+Pharmacy!B570+'Auxillary '!B600+General!B822)*100/(Emergency!C671+OPD!C694+' LR (LaQshya)'!C419+'Maternity Ward'!C659+'SNCU '!C710+'M-OT (LaQshya)'!C634+'PP Unit'!C702+Lab!C623+'Radiology '!C534+Pharmacy!C570+'Auxillary '!C600+General!C822) -> 0 | C16: =(Emergency!B672+OPD!B695+' LR (LaQshya)'!B420+'Maternity Ward'!B660+'SNCU '!B711+'M-OT (LaQshya)'!B635+'PP Unit'!B703+Lab!B624+'Radiology '!B535+Pharmacy!B571+'Auxillary '!B601+General!B823)*100/(Emergency!C672+OPD!C695+' LR (LaQshya)'!C420+'Maternity Ward'!C660+'SNCU '!C711+'M-OT (LaQshya)'!C635+'PP Unit'!C703+Lab!C624+'Radiology '!C535+Pharmacy!C571+'Auxillary '!C601+General!C823) -> 0 | D16: =(Emergency!B673+OPD!B696+' LR (LaQshya)'!B421+'Maternity Ward'!B661+'SNCU '!B712+'M-OT (LaQshya)'!B636+'PP Unit'!B704+Lab!B625+'Radiology '!B536+Pharmacy!B572+'Auxillary '!B602+General!B824)*100/(Emergency!C673+OPD!C696+' LR (LaQshya)'!C421+'Maternity Ward'!C661+'SNCU '!C712+'M-OT (LaQshya)'!C636+'PP Unit'!C704+Lab!C625+'Radiology '!C536+Pharmacy!C572+'Auxillary '!C602+General!C824) -> 0 | E16: =(Emergency!B674+OPD!B697+' LR (LaQshya)'!B422+'Maternity Ward'!B662+'SNCU '!B713+'M-OT (LaQshya)'!B637+'PP Unit'!B705+Lab!B626+'Radiology '!B537+Pharmacy!B573+'Auxillary '!B603+General!B825)*100/(Emergency!C674+OPD!C697+' LR (LaQshya)'!C422+'Maternity Ward'!C662+'SNCU '!C713+'M-OT (LaQshya)'!C637+'PP Unit'!C705+Lab!C626+'Radiology '!C537+Pharmacy!C573+'Auxillary '!C603+General!C825) -> 0
B17: Clinical Services | C17: Infection Control | D17: Quality Mangement | E17: Outcome
B18: =(Emergency!B675+OPD!B698+' LR (LaQshya)'!B423+'Maternity Ward'!B663+'SNCU '!B714+'M-OT (LaQshya)'!B638+'PP Unit'!B706+Lab!B627+'Radiology '!B538+Pharmacy!B574+'Auxillary '!B604+General!B826)*100/(Emergency!C675+OPD!C698+' LR (LaQshya)'!C423+'Maternity Ward'!C663+'SNCU '!C714+'M-OT (LaQshya)'!C638+'PP Unit'!C706+Lab!C627+'Radiology '!C538+Pharmacy!C574+'Auxillary '!C604+General!C826) -> 0 | C18: =(Emergency!B676+OPD!B699+' LR (LaQshya)'!B424+'Maternity Ward'!B664+'SNCU '!B715+'M-OT (LaQshya)'!B639+'PP Unit'!B707+Lab!B628+'Radiology '!B539+Pharmacy!B575+'Auxillary '!B605+General!B827)*100/(Emergency!C676+OPD!C699+' LR (LaQshya)'!C424+'Maternity Ward'!C664+'SNCU '!C715+'M-OT (LaQshya)'!C639+'PP Unit'!C707+Lab!C628+'Radiology '!C539+Pharmacy!C575+'Auxillary '!C605+General!C827) -> 0 | D18: =(Emergency!B677+OPD!B700+' LR (LaQshya)'!B425+'Maternity Ward'!B665+'SNCU '!B716+'M-OT (LaQshya)'!B640+'PP Unit'!B708+Lab!B629+'Radiology '!B540+Pharmacy!B576+'Auxillary '!B606+General!B828)*100/(Emergency!C677+OPD!C700+' LR (LaQshya)'!C425+'Maternity Ward'!C665+'SNCU '!C716+'M-OT (LaQshya)'!C640+'PP Unit'!C708+Lab!C629+'Radiology '!C540+Pharmacy!C576+'Auxillary '!C606+General!C828) -> 0 | E18: =(Emergency!B678+OPD!B701+' LR (LaQshya)'!B426+'Maternity Ward'!B666+'SNCU '!B717+'M-OT (LaQshya)'!B641+'PP Unit'!B709+Lab!B630+'Radiology '!B541+Pharmacy!B577+'Auxillary '!B607+General!B829)*100/(Emergency!C678+OPD!C701+' LR (LaQshya)'!C426+'Maternity Ward'!C666+'SNCU '!C717+'M-OT (LaQshya)'!C641+'PP Unit'!C709+Lab!C630+'Radiology '!C541+Pharmacy!C577+'Auxillary '!C607+General!C829) -> 0
B19: =B15 -> Sevice Provision | C19: =B16 -> 0
B20: =C15 -> Patient Rights | C20: =C16 -> 0
B21: =D15 -> Inputs | C21: =D16 -> 0
B22: =E15 -> Support Services | C22: =E16 -> 0
B23: =B17 -> Clinical Services | C23: =B18 -> 0
B24: =C17 -> Infection Control | C24: =C18 -> 0
B25: =D17 -> Quality Mangement | C25: =D18 -> 0
B26: =E17 -> Outcome | C26: =E18 -> 0
H29: PERCENTAGE
A30: Standard A1. | B30: Facility Provides Curative Services | H30: =(Emergency!H5+OPD!H5+' LR (LaQshya)'!H42+'Maternity Ward'!H5+'SNCU '!H5+'M-OT (LaQshya)'!H44+'PP Unit'!H5+'Radiology '!H5+Pharmacy!H5+General!H5)/(Emergency!I5+OPD!I5+' LR (LaQshya)'!I42+'Maternity Ward'!I5+'SNCU '!I5+'M-OT (LaQshya)'!I44+'PP Unit'!I5+'Radiology '!I5+Pharmacy!I5+General!I5)*100 -> 0
A31: Standard A2 | B31: Facility provides RMNCHA Services | H31: =(Emergency!H25+OPD!H33+' LR (LaQshya)'!H44+'Maternity Ward'!H24+'SNCU '!H24+'M-OT (LaQshya)'!H63+'PP Unit'!H25+'Radiology '!H25+General!H25)/(Emergency!I25+OPD!I33+' LR (LaQshya)'!I44+'Maternity Ward'!I24+'SNCU '!I24+'M-OT (LaQshya)'!I63+'PP Unit'!I25+'Radiology '!I25+General!I25)*100 -> 0
A32: Standard A3. | B32: Facility Provides diagnostic Services | H32: =(Emergency!H35+' LR (LaQshya)'!H54+'Maternity Ward'!H33+'SNCU '!H36+'M-OT (LaQshya)'!H70+'PP Unit'!H37+Lab!H31+'Radiology '!H31+General!H33)/(Emergency!I35+' LR (LaQshya)'!I54+'Maternity Ward'!I33+'SNCU '!I36+'M-OT (LaQshya)'!I70+'PP Unit'!I37+Lab!I31+'Radiology '!I31+General!I33)*100 -> 0
A33: Standard A4 | B33: Facility provides services as mandated in national Health Programs/ state scheme | H33: =(OPD!H45+'Maternity Ward'!H37+Pharmacy!H36+General!H38)/(OPD!I45+'Maternity Ward'!I37+Pharmacy!I36+General!I38)*100 -> 0
A34: Standard A5. | B34: Facility provides support services | H34: =(Emergency!H51+Pharmacy!H49+'Auxillary '!H46+General!H51)/(Emergency!I51+Pharmacy!I49+'Auxillary '!I46+General!I51)*100 -> 0
A35: Standard A6. | B35: Health services provided at the facility are appropriate to community needs. | H35: =(Emergency!H59+Lab!H64+General!H60)/(Emergency!I59+Lab!I64+General!I60)*100 -> 0
A36: Standard B1. | B36: Facility provides the information to care seekers, attendants & community about the available services and their modalities | H36: =(Emergency!H63+OPD!H76+' LR (LaQshya)'!H57+'Maternity Ward'!H61+'SNCU '!H64+'M-OT (LaQshya)'!H100+'PP Unit'!H65+Lab!H68+'Radiology '!H60+Pharmacy!H64+'Auxillary '!H59+General!H65)/(Emergency!I63+OPD!I76+' LR (LaQshya)'!I57+'Maternity Ward'!I61+'SNCU '!I64+'M-OT (LaQshya)'!I100+'PP Unit'!I65+Lab!I68+'Radiology '!I60+Pharmacy!I64+'Auxillary '!I59+General!I65)*100 -> 0
A37: Standard B2. | B37: Services are delivered in a manner that is sensitive to gender, religious, and cultural needs, and there are no barrier on account of physical economic, cultural or social reasons. | H37: =(Emergency!H76+OPD!H91+' LR (LaQshya)'!H62+'Maternity Ward'!H75+'M-OT (LaQshya)'!H108+'PP Unit'!H79+Lab!H79+'Radiology '!H71+Pharmacy!H76+General!H95)/(Emergency!I76+OPD!I91+' LR (LaQshya)'!I62+'Maternity Ward'!I75+'M-OT (LaQshya)'!I108+'PP Unit'!I79+Lab!I79+'Radiology '!I71+Pharmacy!I76+General!I95)*100 -> 0
A38: Standard B3. | B38: Facility maintains the privacy, confidentiality & Dignity of patient and related information. | H38: =(Emergency!H92+OPD!H102+' LR (LaQshya)'!H67+'Maternity Ward'!H85+'SNCU '!H85+'M-OT (LaQshya)'!H113+'PP Unit'!H88+Lab!H85+'Radiology '!H77+Pharmacy!H82+'Auxillary '!H74+General!H119)/(Emergency!I92+OPD!I102+' LR (LaQshya)'!I67+'Maternity Ward'!I85+'SNCU '!I85+'M-OT (LaQshya)'!I113+'PP Unit'!I88+Lab!I85+'Radiology '!I77+Pharmacy!I82+'Auxillary '!I74+General!I119)*100 -> 0
A39: Standard B4. | B39: Facility has defined and established procedures for informing and involving patient and their families about treatment and obtaining informed consent wherever it is required. | H39: =(Emergency!H98+OPD!H109+'M-OT (LaQshya)'!H119+'Maternity Ward'!H94+'SNCU '!H90+'M-OT (LaQshya)'!H119+'PP Unit'!H97+Lab!H90+'Radiology '!H82+Pharmacy!H87+'Auxillary '!H79+General!H124+' LR (LaQshya)'!H77)/(Emergency!I98+OPD!I109+' LR (LaQshya)'!I77+'Maternity Ward'!I94+'SNCU '!I90+'M-OT (LaQshya)'!I119+'PP Unit'!I97+Lab!I90+'Radiology '!I82+Pharmacy!I87+'Auxillary '!I79+General!I124+' LR (LaQshya)'!I77)*100 -> 0
A40: Standard B5. | B40: Facility ensures that there are no financial barrier to access and that there is financial protection given from cost of care. | H40: =(Emergency!H104+OPD!H116+' LR (LaQshya)'!H80+'Maternity Ward'!H101+'SNCU '!H98+'M-OT (LaQshya)'!H126+'PP Unit'!H105+Lab!H96+'Radiology '!H88+Pharmacy!H93+'Auxillary '!H85+General!H138)/(Emergency!I104+OPD!I116+' LR (LaQshya)'!I80+'Maternity Ward'!I101+'SNCU '!I98+'M-OT (LaQshya)'!I126+'PP Unit'!I105+Lab!I96+'Radiology '!I88+Pharmacy!I93+'Auxillary '!I85+General!I138)*100 -> 0
A41: Standard B6. | B41: Facility has defined framework for ethical management including dilemmas confronted during delivery of services at public health facilities | H41: =(Emergency!H111+'Maternity Ward'!H115+'SNCU '!H112+'PP Unit'!H114+General!H145)*100/(Emergency!I111+'Maternity Ward'!I115+'SNCU '!I112+'PP Unit'!I114+General!I145) -> 0
A42: Standard C1. | B42: The facility has infrastructure for delivery of assured services, and available infrastructure meets the prevalent norms | H42: =(Emergency!H126+OPD!H136+' LR (LaQshya)'!H83+'Maternity Ward'!H128+'SNCU '!H126+'M-OT (LaQshya)'!H143+'PP Unit'!H127+Lab!H117+'Radiology '!H108+Pharmacy!H114+'Auxillary '!H105+General!H158)/(Emergency!I126+OPD!I136+' LR (LaQshya)'!I83+'Maternity Ward'!I128+'SNCU '!I126+'M-OT (LaQshya)'!I143+'PP Unit'!I127+Lab!I117+'Radiology '!I108+Pharmacy!I114+'Auxillary '!I105+General!I158)*100 -> 0
A43: Standard C2. | B43: The facility ensures the physical safety of the infrastructure. | H43: =(Emergency!H155+OPD!H161+' LR (LaQshya)'!H98+'Maternity Ward'!H153+'SNCU '!H153+'M-OT (LaQshya)'!H160+'PP Unit'!H151+Lab!H133+'Radiology '!H123+Pharmacy!H129+'Auxillary '!H120+General!H187)/(Emergency!I155+OPD!I161+' LR (LaQshya)'!I98+'Maternity Ward'!I153+'SNCU '!I153+'M-OT (LaQshya)'!I160+'PP Unit'!I151+Lab!I133+'Radiology '!I123+Pharmacy!I129+'Auxillary '!I120+General!I187)*100 -> 0
A44: Standard C3. | B44: The facility has established Programme for fire safety and other disaster | H44: =(Emergency!H161+OPD!H167+' LR (LaQshya)'!H102+'Maternity Ward'!H159+'SNCU '!H168+'M-OT (LaQshya)'!H167+'PP Unit'!H158+Lab!H141+'Radiology '!H130+Pharmacy!H136+'Auxillary '!H126+General!H210)/(Emergency!I161+OPD!I167+' LR (LaQshya)'!I102+'Maternity Ward'!I159+'SNCU '!I168+'M-OT (LaQshya)'!I167+'PP Unit'!I158+Lab!I141+'Radiology '!I130+Pharmacy!I136+'Auxillary '!I126+General!I210)*100 -> 0
...

Sheet Emergency
A1: National Quality Assurance Standards | G1: Version- 03/DWH/UP/19
A2: Checklist Emergency Department | G2: 1
A3: Reference No. | B3: Measurable Element | C3: Checkpoint | D3: Compliance | E3: Assessment Method | F3: Means of Verification | G3: Remarks
A4: . | B4: Area of Concern - A Service Provision | H4: =H5+H25+H35+H51+H59 -> 0 | I4: =I5+I25+I35+I51+I59 -> 24
A5: Standard A1. | B5: Facility Provides Curative Services | H5: =SUM(D8:D22) -> 0 | I5: =COUNT(D8:D22)*2 -> 6
A6: ME A1.1. | B6: The facility provides General Medicine services
A7: ME A1.2. | B7: The facility provides General Surgery services
A8: ME A1.3. | B8: The facility provides Obstetrics & Gynaecology Services | C8: Availability of Emergency Obstetrics &Gynaecology Procedures | D8: 0 | E8: SI/OB
A9: ME A1.4. | B9: The facility provides paediateric services
A10: ME A1.5. | B10: The facility provides Ophthalmology Services
A11: ME A1.6. | B11: The facility provides ENT Services
A12: ME A1.7. | B12: The facility provides Orthopaedics Services
A13: ME A1.8 | B13: The facility provides Skin & VD Services
A14: ME A1.9. | B14: The facility provides Psychiatry Services
A15: ME A1.10 | B15: The facility provides Dental Treatment Services
A16: ME A1.11 | B16: The facility provides AYUSH Services
A17: ME A1.12 | B17: The facility provides Physiotherapy Services
A18: ME A1.13. | B18: The facility provides services for OPD procedures
A19: .
A20: ME A1.14. | B20: Services are available for the time period as mandated | C20: 24X7 availability of dedicated emergency Services | D20: 0 | E20: SI/RR
A21: ME A1.15 | B21: The facility provides services for Super specialties, as mandated
A22: ME A1.16. | B22: The facility provides Accident & Emergency Services | C22: Availability of Emergency procedures | D22: 0 | E22: SI/OB | F22: Defibrillation, CPR, Mobilization, Chest Tube, Intubations, Tracheotomy, Mechanical Ventilation
A23: ME A1.17 | B23: The facility provides Intensive care Services
A24: ME A1.18 | B24: The facility provides Blood bank & transfusion services
A25: Standard A2 | B25: Facility provides RMNCHA Services | H25: =SUM(D27:D33) -> 0 | I25: =COUNT(D27:D33)*2 -> 8
A26: ME A2.1 | B26: The facility provides Reproductive health Services
A27: ME A2.2 | B27: The facility provides Maternal health Services | C27: Emergency Mangement of Preeclampsia & Eclampsia | D27: 0 | E27: SI/OB | F27: Emergency Mangement of Preeclampsia & Eclampsia
C28: Emergency Mangement of Rupture Uterus | D28: 0
C29: Emergnecy Mangement of Shock due to obstructed labour or other resons | D29: 0
A30: ME A2.3 | B30: The facility provides Newborn health Services | C30: Triage and emergency management of New Born cases | D30: 0 | E30: SI/OB | F30: Stablization, Resucitation etc.
A33: ME A2.4 | B33: The facility provides Child health Services
A34: ME A2.5 | B34: The facility provides Adolescent health Services
A35: Standard A3. | B35: Facility Provides diagnostic Services | H35: =SUM(D36:D38) -> 0 | I35: =COUNT(D36:D38)*2 -> 6
A36: ME A3.1. | B36: The facility provides Radiology Services | C36: Availability / Linkage to X-ray & USG services | D36: 0 | E36: SI/OB
C37: Radiology Services are functional 24X7 | D37: 0 | E37: SI/OB | F37: Check services are functional at night
A38: ME A3.2. | B38: The facility Provides Laboratory Services | C38: Availability of Emergency diagnostic tests 24x7 | D38: 0 | E38: SI/OB | F38: HB%, CPC, Blood Sugar, RDK, Urine Protein, Electrolyte (Na+K)
A39: Standard A4 | B39: Facility provides services as mandated in national Health Programs/ state scheme
A40: ME A4.1 | B40: The facility provides services under National Vector Borne Disease Control Programme as per guidelines
A41: ME A4.2 | B41: The facility provides services under Revised National TB Control Programme as per guidelines
A42: ME A4.3 | B42: The facility provides services under National Leprosy Eradication Programme as per guidelines
...

Sheet OPD
A1: National Quality Assurance Standards | G1: Version- 03/DWH/UP/19
A2: Checklist for Outdoor Department | G2: 2
A3: Reference No. | B3: Measurable Element | C3: Checkpoint | D3: Compliance | E3: Assessment Method | F3: Means of Verification | G3: Remarks | H3: Obtained | I3: Maximum
B4: Area of Concern - A Service Provision | H4: =H5+H33+H40+H45+H72 -> 0 | I4: =I5+I33+I40+I45+I72 -> 20
A5: Standard A1 | B5: Facility Provides Curative Services | H5: =SUM(D6:D29) -> 0 | I5: =COUNT(D6:D29)*2 -> 8
A6: ME A1.1 | B6: The facility provides General Medicine services
A7: ME A1.2 | B7: The facility provides General Surgery services
A8: ME A1.3 | B8: The facility provides Obstetrics & Gynaecology Services | C8: Availability of Functional Obstetrics & Gynaecology Clinic | D8: 0 | E8: SI/OB | F8: Dedicated speciality Obstetrics & Gynaecology Clinic. High risk pregnancy cases are referred from ANC clinic and consulted.
A9: ME A1.4 | B9: The facility provides Paediatric Services | C9: Availability of Paediatric Clinic | D9: 0 | E9: SI/OB | F9: Dedicated Paediatric speciality Clinic
A10: ME A1.5 | B10: The facility provides Ophthalmology Services
A11: ME A1.6 | B11: The facility provides ENT Services
A13: ME A1.7 | B13: The facility provides Orthopaedics Services
A15: ME A1.8 | B15: The facility provides Skin & VD Services
A16: ME A1.9 | B16: The facility provides Psychiatry Services
A17: ME A1.10 | B17: The facility provides Dental Treatment Services
A19: ME A1.11 | B19: The facility provides AYUSH Services
A20: ME A1.12 | B20: The facility provides Physiotherapy Services
A21: ME A1.13 | B21: The facility provides services for OPD procedures | C21: Availability of Injection room facilities at OPD | D21: 0 | E21: SI/OB | F21: Dressing, Suturing and drainage
A22: ME A1.14 | B22: Services are available for the time period as mandated | C22: At least 6 Hours of OPD Services are available | D22: 0 | E22: SI/RR
A23: ME A1.15 | B23: The facility provides services for Super specialties, as mandated
A30: ME A1.16 | B30: The facility provides Accident & Emergency Services
A31: ME A1.17 | B31: The facility provides Intensive care Services
A32: ME A1.18 | B32: The facility provides Blood bank & transfusion services
A33: Standard A2 | B33: Facility provides RMNCHA Services | H33: =SUM(D35:D39) -> 0 | I33: =COUNT(D35:D39)*2 -> 6
A34: ME A2.1 | B34: The facility provides Reproductive health Services
A35: ME A2.2 | B35: The facility provides Maternal health Services | C35: Availability of functional ANC clinic | D35: 0 | E35: SI/OB
A36: ME A2.3 | B36: The facility provides Newborn health Services | C36: Availability of Functional immunization clinic | D36: 0 | E36: SI/OB
A37: ME A2.4 | B37: The facility provides Child health Services
A39: ME A2.5 | B39: The facility provides Adolescent health Services | C39: Availability of Functional ARSH clinic | D39: 0 | E39: SI/OB
A40: Standard A3 | B40: Facility Provides diagnostic Services | H40: =SUM(D42:D44) -> 0 | I40: =COUNT(D42:D44)*2 -> 0
A41: ME A3.1 | B41: The facility provides Radiology Services
A42: ME A3.2 | B42: The facility Provides Laboratory Services
A43: ME A3.3 | B43: The facility provides other diagnostic services, as mandated
A45: Standard A4 | B45: Facility provides services as mandated in national Health Programs/ state scheme | H45: =SUM(D46:D63) -> 0 | I45: =COUNT(D46:D63)*2 -> 6
A46: ME A4.1 | B46: The facility provides services under National Vector Borne Disease Control Programme as per guidelines
A47: ME A4.2 | B47: The facility provides services under Revised National TB Control Programme as per guidelines
A48: ME A4.3 | B48: The facility provides services under National Leprosy Eradication Programme as per guidelines
A51: ME A4.4 | B51: The facility provides services under National AIDS Control Programme as per guidelines | C51: Availability of Functional ICTC | D51: 0 | E51: SI/OB
C52: Availability of HIV Testing and Counselling | D52: 0 | E52: SI/RR
C53: PPTCT Services for HIV positive Pregnant Women | D53: 0 | E53: SI/OB
...

Sheet  LR (LaQshya)
A1: National Quality Assurance Standards | G1: Version- 03/DWH/UP/19
A2: Checklist for Labour Room | G2: 3
A3: Assessment Summary
A4: Name of the Hospital | F4: Date of Assessment
A5: Names of Assessors | F5: Names of Assessees
A6: Type of Assessment (Internal/Peer/External) | F6: Action plan Submission Date
A7: Labour room Score Card
A8: Area of Concern wise Score | F8: Labour Room Score
A9: A | B9: Service Provision | C9: =D419 -> 0 | F9: =D427 -> 0
A10: B | B10: Patient Rights | C10: =D420 -> 0
A11: C | B11: Inputs | C11: =D421 -> 0
A12: D | B12: Support Services | C12: =D422 -> 0
A13: E | B13: Clinical Services | C13: =D423 -> 0
A14: F | B14: Infection Control | C14: =D424 -> 0
A15: G | B15: Quality Management | C15: =D425 -> 0
A16: H | B16: Outcome | C16: =D426 -> 0
B18: Major Gaps Observed
A19: 1
A20: 2
A21: 3
A22: 4
A23: 5
B24: Strengths / Good Practices
A25: 1
A26: 2
A27: 3
A28: 4
A29: 5
B30: Recommendations/ Opportunities for Improvement
A31: 1
A32: 2
A33: 3
A34: 4
A35: 5
B36: Signature of Assessors
B37: Date
A39: Checklist for Labour Room
A40: Reference No | B40: Measurable Element | C40: Checkpoint | D40: Compliance | E40: Assessment Method | F40: Means of Verification | G40: Remarks | H40: Obtained | I40: Maximum | J40: %
B41: Area of Concern - A Service Provision | H41: =H42+H44+H54 -> 0 | I41: =I42+I44+I54 -> 22 | J41: =H41*100/I41 -> 0
A42: Standard A1 | B42: The facility provides Curative Services | H42: =SUM(D43) -> 0 | I42: =COUNT(D43)*2 -> 2 | J42: =H42*100/I42 -> 0
...

Sheet Maternity Ward
A1: National Quality Assurance Standards | G1: Version- 03/DWH/UP/19
A2: Checklist for Maternity Ward | G2: 4
A3: Reference no | B3: Measurable Element | C3: Checkpoints | D3: Compliance | E3: Assessment method | F3: Means of verification | G3: Remarks | H3: Obtained Marks | I3: Maximum Marks
B4: Area of Concern - A Service Provision | H4: =H5+H24+H33+H37 -> 0 | I4: =I5+I24+I33+I37 -> 26
A5: Standard A1 | B5: The facility provides Curative Services | H5: =SUM(D8:D23) -> 0 | I5: =COUNT(D8:D23)*2 -> 6
A6: ME A1.1 | B6: The facility provides General Medicine services
A7: ME A1.2 | B7: The facility provides General Surgery services
A8: ME A1.3 | B8: The facility provides Obstetrics & Gynaecology Services | C8: Availability of Gynaecology indoor services | D8: 0 | E8: SI/OB | F8: For obstetric indoor services kindly refer to ME A2.2
A9: ME A1.4 | B9: The facility provides Paediatric Services
A10: ME A1.5 | B10: The facility provides Ophthalmology Services
A11: ME A1.6 | B11: The facility provides ENT Services
A12: ME A1.7 | B12: The facility provides Orthopaedics Services
A13: ME A1.8 | B13: The facility provides Skin & VD Services
A14: ME A1.9 | B14: The facility provides Psychiatry Services
A15: ME A1.10 | B15: The facility provides Dental Treatment Services
A16: ME A1.11 | B16: The facility provides AYUSH Services
A17: ME A1.12 | B17: The facility provides Physiotherapy Services
A18: ME A1.13 | B18: The facility provides services for OPD procedures
A19: ME A1.14 | B19: Services are available for the time period as mandated | C19: Availability of nursing services 24X7 | D19: 0 | E19: SI/RR
A20: ME A1.15 | B20: The facility provides services for Super specialties, as mandated
A21: ME A1.16 | B21: The facility provides Accident & Emergency Services
A22: ME A1.17 | B22: The facility provides Intensive care Services
A23: ME A1.18 | B23: The facility provides Blood bank & transfusion services | C23: Availability/ linkage with blood bank | D23: 0 | E23: SI/OB
A24: Standard A2 | B24: The facility provides RMNCHA Services | H24: =SUM(D26:D31) -> 0 | I24: =COUNT(D26:D31)*2 -> 12
A25: ME A2.1 | B25: The facility provides Reproductive health Services
A26: ME A2.2 | B26: The facility provides Maternal health Services | C26: Availability of indoor services for Antenatal cases | D26: 0 | E26: SI/OB | F26: Antenatal ward- Clean Ward
C27: Availability of indoor services for normal delivery | D27: 0 | E27: SI/OB | F27: Postnatal ward -Normal delivery
C28: Availability of indoor services for C section | D28: 0 | E28: SI/OB | F28: Postnatal ward -C-section delivery
C29: Availability of indoor services for Septic cases | D29: 0 | E29: SI/OB | F29: Septic ward
A30: ME A2.3 | B30: The facility provides Newborn health Services | C30: Prevention of hypothermia and initiation of breast feeding | D30: 0 | E30: SI/OB
A31: ME A2.4 | B31: The facility provides Child health Services | C31: Screening of New born for Birth Defects | D31: 0 | E31: SI/OB
A32: ME A2.5 | B32: The facility provides Adolescent health Services
A33: Standard A3 | B33: The facility Provides diagnostic Services | H33: =SUM(D34:D35) -> 0 | I33: =COUNT(D34:D35)*2 -> 4
A34: ME A3.1 | B34: The facility provides Radiology Services | C34: Availability / linkage with Radiology | D34: 0 | E34: SI/OB
A35: ME A3.2 | B35: The facility Provides Laboratory Services | C35: Availability / linkage with laboratory | D35: 0 | E35: SI/OB
A36: ME A3.3 | B36: The facility provides other diagnostic services, as mandated
A37: Standard A4 | B37: The facility provides services as mandated in national Health Programmes/ state scheme | H37: =SUM(D38:D47) -> 0 | I37: =COUNT(D38:D47)*2 -> 4
A38: ME A4.1 | B38: The facility provides services under National Vector Borne Disease Control Programme as per guidelines | C38: Treatment of Malaria in pregnancy | D38: 0 | E38: SI/OB | F38: check the records for management of cases in last one year
A39: ME A4.2 | B39: The facility provides services under Revised National TB Control Programme as per guidelines
A40: ME A4.3 | B40: The facility provides services under National Leprosy Eradication Programme as per guidelines
...

Sheet SNCU 
A1: National Quality Assurance Standards | G1: Version- 03/DWH/UP/19
A2: Checklist for SNCU | G2: 5
A3: Reference | B3: ME Statement | C3: Checkpoint | D3: Compliance/Full/ Partial/No | E3: Assessment Method | F3: Means of verification | G3: Remarks
B4: Area of Concern - A Service Provision | H4: =H5+H24+H36 -> 0 | I4: =I5+I24+I36 -> 24
A5: Standard A1 | B5: Facility Provides Curative Services | H5: =SUM(D9:D19) -> 0 | I5: =COUNT(D9:D19)*2 -> 4
A6: ME A1.1 | B6: The Facility Provides of General Medicine Services
A7: ME A1.2 | B7: The Facility Provides General Surgeries Services
A8: ME A1.3 | B8: The Facility Provides Obstetrics & Gynaecology Services
A9: ME A1.4 | B9: The Facility Provides Paediatric Services | C9: Availability of functional SNCU | D9: 0 | E9: SI/OB | F9: For detailed service provision kindly refer A2.3
A10: ME A1.5 | B10: The Facility provides Ophthalmology Services
A11: ME A1.6 | B11: The Facility provides ENT Services
A12: ME A1.7 | B12: The Facility provides Orthopaedics Services
A13: ME A1.8 | B13: The Facility provides Skin & VD Services
A14: ME A1.9 | B14: The Facility Provides Psychiatry Services
A15: ME A1.10 | B15: The Facility Provides Dental Treatment Services
A16: ME A1.11 | B16: The Facility Provides AYUSH Services
A17: ME A1.12 | B17: The Facility provides Physiotherapy Services
A18: ME A1.13 | B18: The Facility provides services for OPD procedures
A19: ME A1.14 | B19: Services are available for the time period as mandated | C19: Availability of nursing care services 24X7 | D19: 0 | E19: SI/RR
A20: ME A1.15 | B20: The Facility provides services for Super specialties, as mandated
A21: ME A1.16 | B21: The Facility Provides Accident & Emergency Services
A22: ME A1.17 | B22: The Facility Provides Intensive care Services
A23: ME A1.18 | B23: The Facility provides blood bank and transfusion services
A24: Standard A2 | B24: Facility provides RMNCHA Services | H24: =SUM(D27:D34) -> 0 | I24: =COUNT(D27:D34)*2 -> 16
A25: ME A2.1 | B25: The Facility provides Reproductive health Services
A26: ME A2.2 | B26: The Facility provides maternal health Services
A27: ME A2.3 | B27: The Facility provides Newborn health Services | C27: Management of low birth weight infants <1800 gm and preterm | D27: 0 | E27: SI/RR
C28: Management of all sick new borns except those requiring mechanical ventilation and major surgical intervention | D28: 0 | E28: SI/RR
C29: Resuscitation | D29: 0 | E29: SI/RR
C30: Prevention of infection including management of newborn sepsis | D30: 0 | E30: SI/RR
C31: Provision of Warmth | D31: 0 | E31: SI/RR
C32: Phototherapy for new born | D32: 0 | E32: SI/RR
C33: Breast feeding/feeding support and Kangaroo Mother care (KMC) | D33: 0 | E33: SI/RR
A34: ME A2.4 | B34: The Facility provides child health Services | C34: Screening of New born for Birth Defects | D34: 0 | E34: SI/RR
A35: ME A2.5 | B35: The Facility provides adolescent health Services
A36: Standard A3 | B36: Facility Provides diagnostic Services | H36: =SUM(D37:D38) -> 0 | I36: =COUNT(D37:D38)*2 -> 4
A37: ME A3.1 | B37: The Facility provides Radiology Services | C37: Availability for USG and portable X ray services | D37: 0 | E37: SI/OB | F37: In house, Parent hospital and Outsourced
A38: ME A3.2 | B38: The Facility Provides Laboratory Services | C38: SNCU has facility /Linkage for laboratory investigation. | D38: 0 | E38: SI/OB | F38: Availability of side laboratory: Serum billirubin, Plasma glucose, Serum creatnine, Blood count, Platelet, C reactive protein, Prothrobin time, Blood gas analysis with PH measurement analysis. If linkage with outside lab than give partial compliance
A39: ME A3.3 | B39: Facility provides other diagnostic services, as mandated
A40: Standard A4 | B40: Facility provides services as mandated in national Health Programs/ state scheme
...

Sheet M-OT (LaQshya)
A1: National Quality Assurance Standards | G1: Version- 03/DWH/UP/19
A2: Checklist for Maternity Operation Theatre | G2: 6
A3: Assessment Summary
A4: Name of the Hospital | F4: Date of Assessment
A5: Names of Assessors | F5: Names of Assesses
A6: Type of Assessment (Internal/External) | F6: Action plan Submission Date
A7: Operation Theatre Score Card
A8: Area of Concern wise Score | D8: Operation Theatre Score
A9: A | B9: Service Provision | C9: ='M-OT (LaQshya)'!D634 -> 0 | D9: =D642 -> 0
A10: B | B10: Patient Rights | C10: ='M-OT (LaQshya)'!D635 -> 0
A11: C | B11: Inputs | C11: ='M-OT (LaQshya)'!D636 -> 0
A12: D | B12: Support Services | C12: ='M-OT (LaQshya)'!D637 -> 0
A13: E | B13: Clinical Services | C13: ='M-OT (LaQshya)'!D638 -> 0
A14: F | B14: Infection Control | C14: ='M-OT (LaQshya)'!D639 -> 0
A15: G | B15: Quality Management | C15: ='M-OT (LaQshya)'!D640 -> 0
A16: H | B16: Outcome | C16: ='M-OT (LaQshya)'!D641 -> 0
B18: Major Gaps Observed
A19: 1
A20: 2
A21: 3
A22: 4
A23: 5
B24: Strengths / Good Practices
A25: 1
A26: 2
A27: 3
A28: 4
A29: 5
B30: Recommendations/ Opportunities for Improvement
A31: 1
A32: 2
A33: 3
A34: 4
A35: 5
B36: Signature of Assessors
B37: Date
A41: Checklist for Operation Theatre
A42: Reference No. | B42: ME Statement | C42: Checkpoint | D42: Compliance | E42: Assessment Method | F42: Means of Verification | G42: Remarks | J42: %
B43: Area of Concern - A Service Provision | H43: =H44+H63+H70 -> 0 | I43: =I44+I63+I70 -> 18 | J43: =H43*100/I43 -> 0
A44: Standard A1 | B44: Facility Provides Curative Services | H44: =SUM(D46:D61) -> 0 | I44: =COUNT(D46:D61)*2 -> 6 | J44: =H44*100/I44 -> 0
...

Sheet PP Unit
A1: National Quality Assurance Standards | G1: Version- 03/DWH/UP/19
A2: Checklist for Post Partum Unit | G2: 7
A3: Reference No | B3: ME Statement | C3: Checkpoint | D3: Compliance | E3: Assessment Method | F3: Means of Verification | G3: Remarks
B4: Area of Concern - A Service Provision | H4: =H5+H25+H37 -> 0 | I4: =I5+I25+I37 -> 26
A5: Standard A1 | B5: Facility Provides Curative Services | H5: =SUM(D19:D20) -> 0 | I5: =COUNT(D19:D20)*2 -> 4
A6: ME A1.1 | B6: The facility provides General Medicine services
A7: ME A1.2 | B7: The facility provides General Surgery services
A8: ME A1.3 | B8: The facility provides Obstetrics & Gynaecology Services
A9: ME A1.4 | B9: The facility provides Paediatric Services
A10: ME A1.5 | B10: The facility provides Ophthalmology Services
A11: ME A1.6 | B11: The facility provides ENT Services
A12: ME A1.7 | B12: The facility provides Orthopaedics Services
A13: ME A1.8 | B13: The facility provides Skin & VD Services
A14: ME A1.9 | B14: The facility provides Psychiatry Services
A15: ME A1.10 | B15: The facility provides Dental Treatment Services
A16: ME A1.11 | B16: The facility provides AYUSH Services
A17: ME A1.12 | B17: The facility provides Physiotherapy Services
A18: ME A1.13 | B18: The facility provides services for OPD procedures
A19: ME A1.14 | B19: Services are available for the time period as mandated | C19: At least 6 hours of OPD services are available at Family Planning Clinic | D19: 0 | E19: SI/RR
C20: Days for FP Surgeries are fixed | D20: 0 | E20: SI/RR | F20: As per Operational Guidelines for Fixed Day Surgery ( At least one day per week)
A21: ME A1.15 | B21: The facility provides services for Super specialties, as mandated
A22: ME A1.16 | B22: The facility provides Accident & Emergency Services
A23: ME A1.17 | B23: The facility provides Intensive care Services
A24: ME A1.18 | B24: The facility provides Blood bank & transfusion services
A25: Standard A2 | B25: Facility provides RMNCHA Services | H25: =SUM(D26:D36) -> 0 | I25: =COUNT(D26:D36)*2 -> 20
A26: ME A2.1 | B26: The facility provides Reproductive health Services | C26: Availability of Spacing methods of family planning | D26: 0 | E26: SI/OB | F26: IUCD, OCP, ECP & Condoms
C27: Availability of Female Limiting Methods of family Planning | D27: 0 | E27: SI/OB | F27: Tubectomy (Minilap and Laparoscopic)
C28: Availability of Post partum sterilization services | D28: 0 | E28: SI/OB | F28: Tubal Ligation and PPIUD
C29: Availability of Family Planning Counselling and Promotive services | D29: 0 | E29: SI/OB | F29: Counselling and IEC
C30: Abortion and Contraception services for Ist and 2nd trimester | D30: 0 | E30: SI/OB
C31: Postpartum ward | D31: 0 | E31: SI/OB | F31: Dedicated postpartum ward for FP surgeries and abortion clients
A32: ME A2.2 | B32: The facility provides Maternal health Services | C32: Availability of post natal counselling and follow up services | D32: 0 | E32: SI/OB
A33: ME A2.3 | B33: The facility provides Newborn health Services | C33: Availability/Linkage to immunization services | D33: 0 | E33: SI/OB
A34: ME A2.4 | B34: The facility provides Child health Services
A35: ME A2.5 | B35: The facility provides Adolescent health Services | C35: Availability of Abortion services for adolescent | D35: 0 | E35: SI/OB
C36: Availability of Contraception services | D36: 0 | E36: SI/OB
A37: Standard A3 | B37: Facility Provides diagnostic Services | H37: =SUM(D39) -> 0 | I37: =COUNT(D39)*2 -> 2
A38: ME A3.1 | B38: The facility provides Radiology Services
A39: ME A3.2 | B39: The facility Provides Laboratory Services | C39: Availability of point of care diagnostic test | D39: 0 | E39: SI/OB | F39: For sterilization surgeries, availability of haemoglobin, urine analysis for sugar and albumin
A40: ME A3.3 | B40: The facility provides other diagnostic services, as mandated
...

Sheet Lab
A1: National Quality Assurance Standards | G1: Version- 03/DWH/UP/19
A2: Checklist for Laboratory | G2: 8
A3: Reference no | B3: ME Statement | C3: Checkpoint | D3: Compliance Full/Partial/No | E3: Audit Method | F3: Means of Verification | G3: Remarks
B4: Area of Concern - A Service Provision | H4: =H31+H43+H64 -> 0 | I4: =I31+I43+I64 -> 16
A5: Standard A1 | B5: Facility Provides Curative Services
A6: ME A1.1 | B6: The facility provides General Medicine services
A7: ME A1.2 | B7: The facility provides General Surgery services
A8: ME A1.3 | B8: The facility provides Obstetrics & Gynaecology Services
A9: ME A1.4 | B9: The facility provides Paediatric Services
A10: ME A1.5 | B10: The facility provides Ophthalmology Services
A11: ME A1.6 | B11: The facility provides ENT Services
A12: ME A1.7 | B12: The facility provides Orthopaedics Services
A13: ME A1.8 | B13: The facility provides Skin & VD Services
A14: ME A1.9 | B14: The facility provides Psychiatry Services
A15: ME A1.10 | B15: The facility provides Dental Treatment Services
A16: ME A1.11 | B16: The facility provides AYUSH Services
... A30: ME A 2.5 | B30: The facility provides Adolescent health Services
A31: Standard A3 | B31: Facility Provides diagnostic Services | H31: =SUM(D33:D41) -> 0 | I31: =COUNT(D33:D41)*2 -> 14
A32: ME A3.1 | B32: The facility provides Radiology Services
A33: ME A3.2 | B33: The facility Provides Laboratory Services | C33: All lab services are available in routine working hours | D33: 0 | E33: SI/RR
C34: Emergency lab services are available for selected tests of Haematology, Biochemistry and Serology 24X7 | D34: 0 | E34: SI/RR
C35: Availability of Haematology services | D35: 0 | E35: SI/OB
C36: Availability of Bio chemistry services | D36: 0 | E36: SI/OB
C38: Availability of Cytology services | D38: 0 | E38: SI/OB
C40: Availability of Clinical Pathology services | D40: 0 | E40: SI/OB
C41: Availability of Serology services | D41: 0 | E41: SI/OB
A42: ME A 3.3 | B42: The facility provides other diagnostic services, as mandated
A43: Standard A4 | B43: Facility provides services as mandated in national Health Programs/ state scheme | H43: =SUM(D44:D52) -> 0 | I43: =COUNT(D44:D52)*2 -> 0
A44: ME A4.1 | B44: The facility provides services under National Vector Borne Disease Control Programme as per guidelines
A46: ME A4.2 | B46: The facility provides services under Revised National TB Control Programme as per guidelines
A47: ME A4.3 | B47: The facility provides services under National Leprosy Eradication Programme as per guidelines
A48: ME A4.4 | B48: The facility provides services under National AIDS Control Programme as per guidelines
A49: ME A4.5 | B49: The facility provides services under National Programme for prevention and control of Blindness as per guidelines
A50: ME A 4.6 | B50: The facility provides services under Mental Health Programme as per guidelines
A51: ME A4.7 | B51: The facility provides services under National Programme for the health care of the elderly as per guidelines
A52: ME A4.8 | B52: The facility provides services under National Programme for Prevention and control of Cancer, Diabetes, Cardiovascular diseases & Stroke (NPCDCS) as per guidelines
A53: ME A4.9 | B53: The facility Provides services under Integrated Disease Surveillance Programme as per Guidelines
B54: The facility provide services under National health Programme for Prevention and Control of deafness
B55: The facility provides services as per State specific health programmes
A56: Standard A5 | B56: Facility provides support services
...

Sheet Radiology 
A1: National Quality Assurance Standards | G1: Version- 03/DWH/UP/19
A2: Customized Checklist for Radiology Services | G2: 9
A3: Reference no. | B3: ME Statement | C3: Checkpoint | D3: Compliance Full/Partial/No | E3: Assessment Method | F3: Means of Verification | G3: Remarks
B4: Area of Concern - A Service Provision | H4: =H5+H25+H31 -> 0 | I4: =I5+I25+I31 -> 10
A5: Standard A1 | B5: Facility Provides Curative Services | H5: =SUM(D19:D20) -> 0 | I5: =COUNT(D19:D20)*2 -> 4
A6: ME A1.1 | B6: The facility provides General Medicine services
A7: ME A1.2 | B7: The facility provides General Surgery services
A8: ME A1.3 | B8: The facility provides Obstetrics & Gynaecology Services
A9: ME A1.4 | B9: The facility provides Paediatric Services
A10: ME A1.5 | B10: The facility provides Ophthalmology Services
A11: ME A1.6 | B11: The facility provides ENT Services
A12: ME A1.7 | B12: The facility provides Orthopaedics Services
A13: ME A1.8 | B13: The facility provides Skin & VD Services
A14: ME A1.9 | B14: The facility provides Psychiatry Services
A15: ME A1.10 | B15: The facility provides Dental Treatment Services
A16: ME A1.11 | B16: The facility provides AYUSH Services
A17: ME A1.12 | B17: The facility provides Physiotherapy Services
A18: ME A1.13 | B18: The facility provides services for OPD procedures
A19: ME A1.14 | B19: Services are available for the time period as mandated | C19: Radiology services are available in routine working hours | D19: 0 | E19: SI/RR
C20: Emergency radiology services are available for selected procedure 24X7 | D20: 0 | E20: SI/RR
A21: ME A1.15 | B21: The facility provides services for Super specialties, as mandated
A22: ME A1.16 | B22: The facility provides Accident & Emergency Services
A23: ME A1.17 | B23: The facility provides Intensive care Services
A24: ME A1.18 | B24: The facility provides Blood bank & transfusion services
A25: Standard A2 | B25: Facility provides RMNCHA Services | H25: =SUM(D27) -> 0 | I25: =COUNT(D27)*2 -> 2
A26: ME A2.1 | B26: The facility provides Reproductive health Services
A27: ME A2.2 | B27: The facility provides Maternal health Services | C27: Availability of USG services for Pregnant women | D27: 0 | E27: SI/OB | F27: Fixed days for USG should be avoided,as it may lead to multiple visits by the pregnant women
A28: ME A2.3 | B28: The facility provides Newborn health Services
A29: ME A2.4 | B29: The facility provides Child health Services
A30: ME A2.5 | B30: The facility provides Adolescent health Services
A31: Standard A3 | B31: Facility Provides diagnostic Services | H31: =SUM(D32:D33) -> 0 | I31: =COUNT(D32:D33)*2 -> 4
A32: ME A3.1 | B32: The facility provides Radiology Services | C32: Functional linkage are available for X ray | D32: 0 | E32: SI/OB | F32: for chest, bones, skull, spine and abdomen including special rediography services i.e. Memography , Chest
C33: Availability of ultrasound services | D33: 0 | E33: SI/OB | F33: Pre natal diagnostic procedure: Ultrasonography, Fetoscopy
A34: ME A3.2 | B34: The facility Provides Laboratory Services
A35: ME A3.3 | B35: The facility provides other diagnostic services, as mandated
A36: Standard A4 | B36: Facility provides services as mandated in national Health Programs/ state scheme
A37: ME A4.1 | B37: The facility provides services under National Vector Borne Disease Control Programme as per guidelines
A38: ME A4.2 | B38: The facility provides services under Revised National TB Control Programme as per guidelines
A39: ME A4.3 | B39: The facility provides services under National Leprosy Eradication Programme as per guidelines
A40: ME A4.4 | B40: The facility provides services under National AIDS Control Programme as per guidelines
...

Sheet Pharmacy
A1: National Quality Assurance Standards | G1: Version- 03/DWH/UP/19
A2: Checklist for Pharmacy | G2: 10
A3: Reference No | B3: ME Statement | C3: Checkpoint | D3: Compliance Full/Partial/No | E3: Assessment Method | F3: Means of Verification | G3: Remarks
B4: Area of Concern - A Service Provision | H4: =H5+H36+H49 -> 0 | I4: =I5+I36+I49 -> 24
A5: Standard A1 | B5: Facility Provides Curative Services | H5: =SUM(D19:D21) -> 0 | I5: =COUNT(D19:D21)*2 -> 6
A6: ME A1.1 | B6: The facility provides General Medicine services
A7: ME A1.2 | B7: The facility provides General Surgery services
A8: ME A1.3 | B8: The facility provides Obstetrics & Gynaecology Services
A9: ME A1.4 | B9: The facility provides Paediatric Services
A10: ME A1.5 | B10: The facility provides Ophthalmology Services | J10: Limited Drugs Available
A11: ME A1.6 | B11: The facility provides ENT Services | J11: Dot Center Not available
A12: ME A1.7 | B12: The facility provides Orthopaedics Services
A13: ME A1.8 | B13: The facility provides Skin & VD Services
A14: ME A1.9 | B14: The facility provides Psychiatry Services
A15: ME A1.10 | B15: The facility provides Dental Treatment Services
A16: ME A1.11 | B16: The facility provides AYUSH Services
A17: ME A1.12 | B17: The facility provides Physiotherapy Services
A18: ME A1.13 | B18: The facility provides services for OPD procedures
A19: ME A1.14 | B19: Services are available for the time period as mandated | C19: Dispensary services are available in OPD hours | D19: 0 | E19: SI/RR
C20: Facility ensure access to drug store after OPD hours | D20: 0 | E20: SI/RR
C21: Generic Drug store is operational 24X7 | D21: 0 | E21: SI/RR
A22: ME A1.15 | B22: The facility provides services for Super specialties, as mandated
A23: ME A1.16 | B23: The facility provides Accident & Emergency Services
A24: ME A1.17 | B24: The facility provides Intensive care Services
A25: ME A1.18 | B25: The facility provides Blood bank & transfusion services
A26: Standard A2 | B26: Facility provides RMNCHA Services
A27: ME A2.1 | B27: The facility provides Reproductive health Services
A28: ME A2.2 | B28: The facility provides Maternal health Services
A29: ME A2.3 | B29: The facility provides Newborn health Services
A30: ME A2.4 | B30: The facility provides Child health Services
A31: ME A2.5 | B31: The facility provides Adolescent health Services
A32: Standard A3 | B32: Facility Provides diagnostic Services
A33: ME A3.1 | B33: The facility provides Radiology Services
... A35: ME A3.3 | B35: The facility provides other diagnostic services, as mandated
A36: Standard A4 | B36: Facility provides services as mandated in national Health Programs/ state scheme | H36: =SUM(D37:D41) -> 0 | I36: =COUNT(D37:D41)*2 -> 10
A37: ME A4.1 | B37: The facility provides services under National Vector Borne Disease Control Programme as per guidelines | C37: Availability of Drugs under NVBDCP | D37: 0 | E37: SI/OB | F37: Chloroquine, Primaquine, ACT (Artemisinin Combination Therapy)
A38: ME A4.2 | B38: The facility provides services under Revised National TB Control Programme as per guidelines | C38: Availability of Drugs under RNTBCP | D38: 0 | E38: SI/OB
A39: ME A4.3 | B39: The facility provides services under National Leprosy Eradication Programme as per guidelines | C39: Availability of Drugs under NLEP | D39: 0 | E39: SI/OB | F39: Rifampicin, Clofazimine, Dapsone
A40: ME A4.4 | B40: The facility provides services under National AIDS Control Programme as per guidelines | C40: Availability of ARV Drugs under NACP | D40: 0 | E40: SI/OB | F40: Zidovudine, Stavudine, Lamivudine, Nevirapine in combination as per NACO
C41: Availability of Drugs for Paediatric HIV management | D41: 0 | E41: SI/OB | F41: Paediatric Dosages FDC 6, FDC 10, Efavirenz, Cotrimoxazole
...

Sheet Auxillary 
A1: National Quality Assurance Standards | G1: Version- 03/DWH/UP/19
A2: Checklist for Auxillary Services | G2: 11
A3: Reference no | B3: ME Statement | C3: Checkpoint | D3: Compliance | E3: Assessment Method | F3: Means of Verification | G3: Remarks
B4: Area of Concern - A Service Provision | H4: =H46+H59+H74+H79+H85 -> 0 | I4: =I46+I59+I74+I79+I85 -> 30
A5: Standard A1 | B5: Facility Provides Curative Services
A6: ME A1.1 | B6: The facility provides General Medicine services
A7: ME A1.2 | B7: The facility provides General Surgery services
A8: ME A1.3 | B8: The facility provides Obstetrics & Gynaecology Services
A9: ME A1.4 | B9: The facility provides Paediatric Services
A10: ME A1.5 | B10: The facility provides Ophthalmology Services
A11: ME A1.6 | B11: The facility provides ENT Services
A12: ME A1.7 | B12: The facility provides Orthopaedics Services
A13: ME A1.8 | B13: The facility provides Skin & VD Services
A14: ME A1.9 | B14: The facility provides Psychiatry Services
A15: ME A1.10 | B15: The facility provides Dental Treatment Services
A16: ME A1.11 | B16: The facility provides AYUSH Services
... A45: ME A4.11 | B45: The facility provides services as per State specific health programmes
A46: Standard A5 | B46: Facility provides support services | H46: =SUM(D47:D54) -> 0 | I46: =COUNT(D47:D54)*2 -> 14
A47: ME A5.1 | B47: The facility provides dietary services | C47: Availability of operational Kitchen | D47: 0 | E47: SI/OB | F47: Functional Kitchen within the premise of the hospital
B48: The facility provides laundry services | C48: Availability of functional laundry | D48: 0 | E48: SI/OB | F48: Arrangement of laundry services inhouse or outsourced
B49: The facility provides security services | C49: Availability of functional security services 24 X7 | D49: 0 | E49: SI/OB
B50: The facility provides housekeeping services | C50: Availability of Housekeeping services 24X7 | D50: 0 | E50: SI/OB
C51: Availability of waste disposal services | D51: 0 | E51: SI/OB | F51: Arrangement for disposal of Bio medical and general waste Inhouse or outsouced
B52: The facility ensures maintenance services | C52: Availability of maintenance services 24X7 | D52: 0 | E52: SI/OB | F52: Includes Physical infrastructure maintenance and equipment maintenance
B53: The facility provides pharmacy services
A54: ME A5.7 | B54: The facility has services of medical record department | C54: Availability of Medical record department | D54: 0 | E54: SI/OB
A55: Standard A6 | B55: Health services provided at the facility are appropriate to community needs.
A56: ME A6.1 | B56: The facility provides curatives & preventive services for the health problems and diseases, prevalent locally.
A57: ME A6.2 | B57: There is process for consulting community/ or their representatives when planning or revising scope of services of the facility
B58: Area of Concern - B Patient Rights | H58: =H59+H74+H79+H85+H92 -> 0 | I58: =I59+I74+I79+I85+I92 -> 16
A59: Standard B1 | B59: Facility provides the information to care seekers, attendants & community about the available services and their modalities | H59: =SUM(D60:D67) -> 0 | I59: =COUNT(D60:D67)*2 -> 6
A60: ME B1.1 | B60: The facility has uniform and user-friendly signage system | C60: Availability of departmental signage for support service department | D60: 0 | E60: OB
A61: ME B1.2 | B61: The facility displays the services and entitlements available in its departments
A62: ME B1.3 | B62: The facility has established citizen charter, which is followed at all levels
A63: ME B1.4 | B63: User charges are displayed and communicated to patients effectively
A64: ME B1.5 | B64: Patients & visitors are sensitised and educated through appropriate IEC / BCC approaches
A65: ME B1.6 | B65: Information is available in local language and easy to understand | C65: Signage's and information are available in local language | D65: 0 | E65: OB
A66: ME B1.7 | B66: The facility provides information to patients and visitor through an exclusive set-up.
A67: ME B1.8 | B67: The facility ensures access to clinical records of patients to entitled personnel | C67: Medical records are provided to patient/ Next to kin on request | D67: 0 | E67: RR/OB
A68: Standard B2 | B68: Services are delivered in a manner that is sensitive to gender, religious and cultural needs, and there are no barrier on account of physical, economic, cultural or social reasons.
...

Sheet General
A1: National Quality Assurance Standards | G1: Version- 03/DWH/UP/19
A2: Checklist for General Administration | G2: 12
A3: Reference No. | B3: ME Statement | C3: Checkpoint | D3: Compliance | E3: Assessment Method | F3: Means of Verification | G3: Remarks
B4: Area of Concern - A Service Provision | H4: =H5+H25+H33+H38+H51+H60 -> 0 | I4: =I5+I25+I33+I38+I51+I60 -> 34
A5: Standard A1 | B5: Facility Provides Curative Services | H5: =SUM(D21:D24) -> 0 | I5: =COUNT(D21:D24)*2 -> 2
A6: ME A1.1. | B6: The facility provides General Medicine services
A7: ME A1.2. | B7: The facility provides General Surgery services
A8: ME A1.3. | B8: The facility provides Obstetrics & Gynaecology Services
A9: ME A1.4. | B9: The facility provides Paediatric Services
A10: ME A1.5. | B10: The facility provides Ophthalmology Services
A11: ME A1.6 | B11: The facility provides ENT Services
A12: ME A1.7. | B12: The facility provides Orthopaedics Services
A13: ME A1.8 | B13: The facility provides Skin & VD Services
A14: ME A1.9 | B14: The facility provides Psychiatry Services
A15: ME A1.10 | B15: The facility provides Dental Treatment Services
A16: ME A1.11 | B16: The facility provides AYUSH Services
A17: ME A1.12 | B17: The facility provides Physiotherapy Services
... A20: ME A1.15. | B20: The facility provides services for Super specialties, as mandated
A21: ME A1.16. | B21: The facility provides Accident & Emergency Services | C21: Availability of functional A& E department | D21: 0 | E21: SI/OB
A23: ME A1.17. | B23: The facility provides Intensive care Services
A24: ME A1.18. | B24: The facility provides Blood bank & transfusion services
A25: Standard A2 | B25: Facility provides RMNCHA Services | H25: =SUM(D26:D31) -> 0 | I25: =COUNT(D26:D31)*2 -> 4
A26: ME A 2.1. | B26: The facility provides Reproductive health Services | C26: Availability of Post Partum unit at the facility | D26: 0 | E26: SI/OB
A27: ME A2.2. | B27: The facility provides Maternal health Services
A28: ME A2.3. | B28: The facility provides Newborn health Services | C28: Availability of functional SNCU | D28: 0 | E28: SI/OB
A29: ME A2.4. | B29: The facility provides Child health Services
A32: ME A2.5. | B32: The facility provides Adolescent health Services
A33: Standard A3 | B33: Facility Provides diagnostic Services | H33: =SUM(D34:D37) -> 0 | I33: =COUNT(D34:D37)*2 -> 6
A34: ME A3.1. | B34: The facility provides Radiology Services | C34: Availability of X-Ray Unit | D34: 0 | E34: SI/OB | F34: Availability of in-house services. Partial Compliance if it is outsourced
A35: . | C35: Availability of Ultrasound services | D35: 0 | E35: SI/OB | F35: Availability of in-house services. Partial Compliance if it is outsourced
A36: .
A37: ME A3.2 | B37: The facility Provides Laboratory Services | C37: Availability of In-house lab | D37: 0 | E37: SI/OB | F37: If lab is outsourced than give partial compliance
A38: Standard A4 | B38: Facility provides services as mandated in national Health Programs/ state scheme | H38: =SUM(D41:D50) -> 0 | I38: =COUNT(D41:D48)*2 -> 4
A39: ME A4.1 | B39: The facility provides services under National Vector Borne Disease Control Programme as per guidelines
A40: ME A4.2 | B40: The facility provides services under Revised National TB Control Programme as per guidelines
A41: ME A4.3 | B41: The facility provides services under National Leprosy Eradication Programme as per guidelines
A42: ME A4.4 | B42: The facility provides services under National AIDS Control Programme as per guidelines | C42: Availability Functional ICTC is available | D42: 0 | E42: SI/OB
A44: ME A4.5 | B44: The facility provides services under National Programme for prevention and control of Blindness as per guidelines
A45: ME A 4.6 | B45: The facility provides services under Mental Health Programme as per guidelines
A46: ME A4.7. | B46: The facility provides services under National Programme for the health care of the elderly as per guidelines
...
